﻿BEGIN:VCALENDAR
VERSION:2.0
PRODID:-//OPTIM RESSOURCES - ECPv6.15.20//NONSGML v1.0//EN
CALSCALE:GREGORIAN
METHOD:PUBLISH
X-WR-CALNAME:OPTIM RESSOURCES
X-ORIGINAL-URL:https://optim-ressources.com
X-WR-CALDESC:Évènements pour OPTIM RESSOURCES
REFRESH-INTERVAL;VALUE=DURATION:PT1H
X-Robots-Tag:noindex
X-PUBLISHED-TTL:PT1H
BEGIN:VTIMEZONE
TZID:Europe/Paris
BEGIN:DAYLIGHT
TZOFFSETFROM:+0100
TZOFFSETTO:+0200
TZNAME:CEST
DTSTART:20250330T010000
END:DAYLIGHT
BEGIN:STANDARD
TZOFFSETFROM:+0200
TZOFFSETTO:+0100
TZNAME:CET
DTSTART:20251026T010000
END:STANDARD
BEGIN:DAYLIGHT
TZOFFSETFROM:+0100
TZOFFSETTO:+0200
TZNAME:CEST
DTSTART:20260329T010000
END:DAYLIGHT
BEGIN:STANDARD
TZOFFSETFROM:+0200
TZOFFSETTO:+0100
TZNAME:CET
DTSTART:20261025T010000
END:STANDARD
BEGIN:DAYLIGHT
TZOFFSETFROM:+0100
TZOFFSETTO:+0200
TZNAME:CEST
DTSTART:20270328T010000
END:DAYLIGHT
BEGIN:STANDARD
TZOFFSETFROM:+0200
TZOFFSETTO:+0100
TZNAME:CET
DTSTART:20271031T010000
END:STANDARD
END:VTIMEZONE
BEGIN:VEVENT
DTSTART;TZID=Europe/Paris:20260327T083000
DTEND;TZID=Europe/Paris:20260327T100000
DTSTAMP:20260420T154740
CREATED:20251219T084138Z
LAST-MODIFIED:20260313T133457Z
UID:9458-1774600200-1774605600@optim-ressources.com
SUMMARY:Vous ne trouvez pas les compétences spécifiques dont vous avez besoin ? Développez-les en interne !😊
DESCRIPTION:🎬 Venez vous inspirer et échanger avec Claire MARCON\, RRH\, qui partagera son expérience de création de l’école interne AKANEA. \n\nUne démarche simple\, progressive\, loin de l’“usine à gaz”\nDes étapes claires et reproductibles\nDes bénéfices identifiés sur l’engagement\, la transmission et la montée en compétences\n\nNous découvrirons que c’est faisable\, y compris pour une PME et cela contribue à l’engagement des équipes ! \n🔎 Ce que vous allez découvrir : \n\nPourquoi AKANEA a lancé une école interne\nLes apports concrets de son Akademy\nComment l’école interne a été construite\nCe qui a facilité la réussite… et les points d’attention\nComment l’Akademy fonctionne aujourd’hui\nLa vision d’Optim Ressources\n\n\n\n\n\nClaire MARCON\, RRH \n\n\nEmmanuelle Savrimuthu \nConsultante associée \n\n\n\n\n 
URL:https://optim-ressources.com/event/vous-ne-trouvez-pas-competences-specifiques-vous-avez-besoin-developpez-les-interne/
LOCATION:Webinaire ! Lien de connexion Teams à suivre !
CATEGORIES:WEBINAIRES / AFTERWORK
ATTACH;FMTTYPE=image/svg+xml:https://optim-ressources.com/wp-content/uploads/2026/02/banniere_webinaire_mars.svg
ORGANIZER;CN="Optim Ressources":MAILTO:contact@optim-ressources.com
END:VEVENT
END:VCALENDAR