﻿BEGIN:VCALENDAR
VERSION:2.0
PRODID:-//OPTIM RESSOURCES - ECPv6.15.20//NONSGML v1.0//EN
CALSCALE:GREGORIAN
METHOD:PUBLISH
X-ORIGINAL-URL:https://optim-ressources.com
X-WR-CALDESC:Évènements pour OPTIM RESSOURCES
REFRESH-INTERVAL;VALUE=DURATION:PT1H
X-Robots-Tag:noindex
X-PUBLISHED-TTL:PT1H
BEGIN:VTIMEZONE
TZID:Europe/Paris
BEGIN:DAYLIGHT
TZOFFSETFROM:+0100
TZOFFSETTO:+0200
TZNAME:CEST
DTSTART:20250330T010000
END:DAYLIGHT
BEGIN:STANDARD
TZOFFSETFROM:+0200
TZOFFSETTO:+0100
TZNAME:CET
DTSTART:20251026T010000
END:STANDARD
BEGIN:DAYLIGHT
TZOFFSETFROM:+0100
TZOFFSETTO:+0200
TZNAME:CEST
DTSTART:20260329T010000
END:DAYLIGHT
BEGIN:STANDARD
TZOFFSETFROM:+0200
TZOFFSETTO:+0100
TZNAME:CET
DTSTART:20261025T010000
END:STANDARD
BEGIN:DAYLIGHT
TZOFFSETFROM:+0100
TZOFFSETTO:+0200
TZNAME:CEST
DTSTART:20270328T010000
END:DAYLIGHT
BEGIN:STANDARD
TZOFFSETFROM:+0200
TZOFFSETTO:+0100
TZNAME:CET
DTSTART:20271031T010000
END:STANDARD
END:VTIMEZONE
BEGIN:VEVENT
DTSTART;TZID=Europe/Paris:20260227T083000
DTEND;TZID=Europe/Paris:20260227T100000
DTSTAMP:20260420T173344
CREATED:20251215T120706Z
LAST-MODIFIED:20260123T084944Z
UID:9424-1772181000-1772186400@optim-ressources.com
SUMMARY:Ancrer une démarche RSE avec pragmatisme\, un dirigeant témoigne
DESCRIPTION:Quel cadre\, quelles conditions créer pour embarquer ?\nEric DOUBLIER\, Dirigeant de CERENN Lyon (secteur du BTP) et Président de la Commission Formation & Insertion de la Fédération BTP Rhône\, nous partagera sans langue de bois : \n\nLes différentes phases de la démarche RSE de Cerenn Lyon\,\nSa posture de dirigeant pour embarquer ses équipes\, et au-delà\nLes leviers structurels sur lesquels il travaille pour ancrer avec pragmatisme la RSE au cœur du métier et de la gestion de l’entreprise\n\nAvec l’appui de ce témoignage\, Optim-Ressources partagera : \n\nLes différentes étapes mises en place pour accompagner l’embarquement interne de Cerenn Lyon et d’autres entreprises adhérentes de la Fédération BTP Rhône\,\nSon cadre d’analyse des freins et leviers à l’enracinement et la pérennisation d’une démarche RSE.\n\nWebinaire animé par : \n\n\n\n\nThomas de Brugière  \nConsultant associé\n\nDomitille Chavatte  \nConsultante associée\n\n\n\n 
URL:https://optim-ressources.com/event/ancrer-demarche-rse-pragmatisme-dirigeant-temoigne/
LOCATION:Webinaire ! Lien de connexion Teams à suivre !
CATEGORIES:WEBINAIRES / AFTERWORK
ATTACH;FMTTYPE=image/svg+xml:https://optim-ressources.com/wp-content/uploads/2026/01/banniere_webinaire_RSE.svg
END:VEVENT
END:VCALENDAR