﻿BEGIN:VCALENDAR
VERSION:2.0
PRODID:-//OPTIM RESSOURCES - ECPv6.15.20//NONSGML v1.0//EN
CALSCALE:GREGORIAN
METHOD:PUBLISH
X-ORIGINAL-URL:https://optim-ressources.com
X-WR-CALDESC:Évènements pour OPTIM RESSOURCES
REFRESH-INTERVAL;VALUE=DURATION:PT1H
X-Robots-Tag:noindex
X-PUBLISHED-TTL:PT1H
BEGIN:VTIMEZONE
TZID:Europe/Paris
BEGIN:DAYLIGHT
TZOFFSETFROM:+0100
TZOFFSETTO:+0200
TZNAME:CEST
DTSTART:20250330T010000
END:DAYLIGHT
BEGIN:STANDARD
TZOFFSETFROM:+0200
TZOFFSETTO:+0100
TZNAME:CET
DTSTART:20251026T010000
END:STANDARD
BEGIN:DAYLIGHT
TZOFFSETFROM:+0100
TZOFFSETTO:+0200
TZNAME:CEST
DTSTART:20260329T010000
END:DAYLIGHT
BEGIN:STANDARD
TZOFFSETFROM:+0200
TZOFFSETTO:+0100
TZNAME:CET
DTSTART:20261025T010000
END:STANDARD
BEGIN:DAYLIGHT
TZOFFSETFROM:+0100
TZOFFSETTO:+0200
TZNAME:CEST
DTSTART:20270328T010000
END:DAYLIGHT
BEGIN:STANDARD
TZOFFSETFROM:+0200
TZOFFSETTO:+0100
TZNAME:CET
DTSTART:20271031T010000
END:STANDARD
END:VTIMEZONE
BEGIN:VEVENT
DTSTART;TZID=Europe/Paris:20260123T083000
DTEND;TZID=Europe/Paris:20260123T100000
DTSTAMP:20260420T202121
CREATED:20250716T074035Z
LAST-MODIFIED:20260107T084657Z
UID:8653-1769157000-1769162400@optim-ressources.com
SUMMARY:Qu’est-ce qui nous empêche de coopérer ? Et d’ailleurs\, peut-on réellement coopérer ?
DESCRIPTION:Vous en avez marre d’entendre : « ce n’est pas ma faute\, c’est telle entité qui n’a pas fait son boulot »\, « les fonctions supports ? toujours là pour mettre des bâtons dans les roues »\, « nos objectifs sont incompatibles\, donc impossible de travailler ensemble »\, « moi\, j’ai fait mon job\, ce qu’il se passe après n’est plus mon problème »\, « mon manager est en désaccord avec son propre manager »… ? \nLa coopération c’est pourtant interagir les uns les autres\, s’écouter\, dialoguer\, agir dans un but commun\, au sein même de sa propre équipe et avec les autres équipes de l’entreprise. \nAlors comment faire ? comment avoir des relations\, des interactions de qualité permettant une saine coopération ? Pour répondre à cette nécessité\, Optim Ressources\, en partenariat avec Anagram\, déploie un « standard » de la responsabilité relationnelle (hiérarchique comme transverse). Ce standard est un véritable « repère » permettant de poser les bases et maximiser la coopération en s’appuyant sur les fondamentaux de l’assertivité et les composantes organisationnelles (postes\, processus\, rituels…). \nEnvie d’en savoir plus\, de partager des retours d’expériences de Bernard Sala\, DG Adjoint Colas et de Jean-Michel Gullung de Anagram Conseil \, de savoir comment des entreprises se sont emparés de ce sujet pour améliorer leurs performances ?  \nRejoignez-nous ! \nAvec le témoignage de \n\n\n\n\n\n\n\n Jean-Michel Gullung\nPrésident\nAnagram Conseil\n\nBernard Sala\nDGA\nColas \n\n\n\n\nWébinaire animé par : \n\n\n\n\n\n\n\nBernard Debroise\nConsultant associé \nOptim Ressources\nJean Plichon \nConsultant associé \nOptim Ressources
URL:https://optim-ressources.com/event/quest-ce-qui-nous-empeche-de-cooperer/
LOCATION:Webinaire !\, Lien de connexion adressé 48h avant..
CATEGORIES:WEBINAIRES / AFTERWORK
ATTACH;FMTTYPE=image/svg+xml:https://optim-ressources.com/wp-content/uploads/2025/12/banniere_webinaire_janvier_anagram.svg
ORGANIZER;CN="Optim Ressources":MAILTO:contact@optim-ressources.com
END:VEVENT
END:VCALENDAR