﻿BEGIN:VCALENDAR
VERSION:2.0
PRODID:-//OPTIM RESSOURCES - ECPv6.15.20//NONSGML v1.0//EN
CALSCALE:GREGORIAN
METHOD:PUBLISH
X-WR-CALNAME:OPTIM RESSOURCES
X-ORIGINAL-URL:https://optim-ressources.com
X-WR-CALDESC:Évènements pour OPTIM RESSOURCES
REFRESH-INTERVAL;VALUE=DURATION:PT1H
X-Robots-Tag:noindex
X-PUBLISHED-TTL:PT1H
BEGIN:VTIMEZONE
TZID:Europe/Paris
BEGIN:DAYLIGHT
TZOFFSETFROM:+0100
TZOFFSETTO:+0200
TZNAME:CEST
DTSTART:20240331T010000
END:DAYLIGHT
BEGIN:STANDARD
TZOFFSETFROM:+0200
TZOFFSETTO:+0100
TZNAME:CET
DTSTART:20241027T010000
END:STANDARD
BEGIN:DAYLIGHT
TZOFFSETFROM:+0100
TZOFFSETTO:+0200
TZNAME:CEST
DTSTART:20250330T010000
END:DAYLIGHT
BEGIN:STANDARD
TZOFFSETFROM:+0200
TZOFFSETTO:+0100
TZNAME:CET
DTSTART:20251026T010000
END:STANDARD
BEGIN:DAYLIGHT
TZOFFSETFROM:+0100
TZOFFSETTO:+0200
TZNAME:CEST
DTSTART:20260329T010000
END:DAYLIGHT
BEGIN:STANDARD
TZOFFSETFROM:+0200
TZOFFSETTO:+0100
TZNAME:CET
DTSTART:20261025T010000
END:STANDARD
END:VTIMEZONE
BEGIN:VEVENT
DTSTART;TZID=Europe/Paris:20250919T083000
DTEND;TZID=Europe/Paris:20250919T100000
DTSTAMP:20260421T033435
CREATED:20250523T093045Z
LAST-MODIFIED:20250701T133214Z
UID:8261-1758270600-1758276000@optim-ressources.com
SUMMARY:Changez le changement\, il est permanent !
DESCRIPTION:Le changement est une constante dans les entreprises\, un sujet abordé depuis toujours. Pourtant\, il est surprenant de constater à quel point les entreprises ont encore des difficultés à bien l’accompagner et à le réussir. \nConnaitre et savoir utiliser les méthodes\, outils\, organisations et les compétences pour l’accompagner est un des défis majeurs pour les entreprises. Venez découvrir à travers un témoignage concret nos approches et savoir-faire en la matière. \nTémoin : Alexandre HAY\, Directeur Supply Chain chez Candia \n\n\n\n\n\nMarine Desplas \nConsultante associée 
URL:https://optim-ressources.com/event/changez-le-changement-il-est-permanent/
LOCATION:Webinaire !\, Lien de connexion adressé 48h avant..
CATEGORIES:WEBINAIRES / AFTERWORK
ATTACH;FMTTYPE=image/svg+xml:https://optim-ressources.com/wp-content/uploads/2025/05/webinaire_change.svg
ORGANIZER;CN="Optim Ressources":MAILTO:contact@optim-ressources.com
END:VEVENT
END:VCALENDAR