﻿BEGIN:VCALENDAR
VERSION:2.0
PRODID:-//OPTIM RESSOURCES - ECPv6.15.20//NONSGML v1.0//EN
CALSCALE:GREGORIAN
METHOD:PUBLISH
X-WR-CALNAME:OPTIM RESSOURCES
X-ORIGINAL-URL:https://optim-ressources.com
X-WR-CALDESC:Évènements pour OPTIM RESSOURCES
REFRESH-INTERVAL;VALUE=DURATION:PT1H
X-Robots-Tag:noindex
X-PUBLISHED-TTL:PT1H
BEGIN:VTIMEZONE
TZID:Europe/Paris
BEGIN:DAYLIGHT
TZOFFSETFROM:+0100
TZOFFSETTO:+0200
TZNAME:CEST
DTSTART:20240331T010000
END:DAYLIGHT
BEGIN:STANDARD
TZOFFSETFROM:+0200
TZOFFSETTO:+0100
TZNAME:CET
DTSTART:20241027T010000
END:STANDARD
BEGIN:DAYLIGHT
TZOFFSETFROM:+0100
TZOFFSETTO:+0200
TZNAME:CEST
DTSTART:20250330T010000
END:DAYLIGHT
BEGIN:STANDARD
TZOFFSETFROM:+0200
TZOFFSETTO:+0100
TZNAME:CET
DTSTART:20251026T010000
END:STANDARD
BEGIN:DAYLIGHT
TZOFFSETFROM:+0100
TZOFFSETTO:+0200
TZNAME:CEST
DTSTART:20260329T010000
END:DAYLIGHT
BEGIN:STANDARD
TZOFFSETFROM:+0200
TZOFFSETTO:+0100
TZNAME:CET
DTSTART:20261025T010000
END:STANDARD
END:VTIMEZONE
BEGIN:VEVENT
DTSTART;TZID=Europe/Paris:20250710T083000
DTEND;TZID=Europe/Paris:20250710T100000
DTSTAMP:20260421T070314
CREATED:20250515T104230Z
LAST-MODIFIED:20250630T071503Z
UID:8230-1752136200-1752141600@optim-ressources.com
SUMMARY:Est-il encore utile de former les managers ?
DESCRIPTION:Nous sommes convaincus que la formation est un levier pour faire évoluer la culture et les pratiques managériales\nTémoignage de David Sauré\, Responsable Performance Industrielle Corporate du Groupe Savencia  \nJeudi 10 juillet de 8h30 à 10h00 \nVenez vous inspirer de parcours de formations managériales efficaces \n\nQui aident à renforcer l’impact du manager et qui donnent envie d’agir au quotidien\nQui impliquent toute la ligne managériale et fédèrent autour d’une culture commune\nQui outillent les managers pour mieux répondre aux enjeux de performances et de fidélisation\n\n\n\n\n\n\n🎬 David Sauré\,  Responsable Performance Industrielle Corporate Savencia témoignera de son expérience de mise en œuvre de parcours de formation des managers de proximité \n\n\n\n\n👁‍🗨 Optim Ressources partagera son regard sur ce qui rend une formation attractive et efficace dans la durée. \n  \n\n\n\n\nPascale Botrini\nConsultante associée\n\nAnne Farrugia\nConsultante associée
URL:https://optim-ressources.com/event/est-il-encore-utile-de-former-les-managers/
LOCATION:Webinaire !\, Lien de connexion adressé 48h avant..
CATEGORIES:WEBINAIRES / AFTERWORK
ATTACH;FMTTYPE=image/svg+xml:https://optim-ressources.com/wp-content/uploads/2025/05/webinaire_juillet.svg
ORGANIZER;CN="Optim Ressources":MAILTO:contact@optim-ressources.com
END:VEVENT
END:VCALENDAR